BEGIN:VCALENDAR
VERSION:2.0
PRODID:Events Booking
BEGIN:VEVENT
UID:69e5b88a2857a
SUMMARY:2019 Victim Empowerment
DESCRIPTION:How to support people in distress and victims of trauma.
LOCATION:NG Church\, Lyttleton\, Cnr Langebrink Avenue and Burger Lane
DTSTART:20190327T100000Z
DTEND:20190327T140000Z
DTSTAMP:20260420T072426Z
ORGANIZER;CN=Aquilla Training:MAILTO:admin@aquilla.co.za
GEO:-25.833163;28.206528
X-APPLE-STRUCTURED-LOCATION;VALUE=URI;X-ADDRESS=NG Church\, Lyttleton\, Cnr
  Langebrink Avenue and Burger Lane;X-APPLE-RADIUS=72;X-TITLE=Pretoria - Ly
 ttleton\, Gauteng:-25.833163;28.206528
END:VEVENT
END:VCALENDAR